BEGIN:VCALENDAR
VERSION:2.0
PRODID:-//Squarespace Inc/Squarespace 6//v6//EN
BEGIN:VEVENT
UID:58aa04336b8f5bc5081dee1f@squarespace.com
DTSTAMP:20170314T230305Z
DTSTART:20170509T053000Z
DTEND:20170509T063000Z
SUMMARY:Understanding your financial statements
END:VEVENT
END:VCALENDAR
