BEGIN:VCALENDAR
VERSION:2.0
PRODID:-//Squarespace Inc/Squarespace 6//v6//EN
BEGIN:VEVENT
UID:58aa03a9db29d65028668896@squarespace.com
DTSTAMP:20170227T231959Z
DTSTART:20170307T043000Z
DTEND:20170307T053000Z
SUMMARY:Xero demonstration
END:VEVENT
END:VCALENDAR
