BEGIN:VCALENDAR
VERSION:2.0
PRODID:-//Squarespace Inc/Squarespace 6//v6//EN
BEGIN:VEVENT
UID:58aa029e86e6c0c3739b202a@squarespace.com
DTSTAMP:20170403T223821Z
DTSTART:20170411T053000Z
DTEND:20170411T063000Z
SUMMARY:Seven ways to grow your business
END:VEVENT
END:VCALENDAR
